BEGIN:VCALENDAR
VERSION:2.0
PRODID:-//Special Parent Information Network: Hawaii - ECPv6.13.2.1//NONSGML v1.0//EN
CALSCALE:GREGORIAN
METHOD:PUBLISH
X-WR-CALNAME:Special Parent Information Network: Hawaii
X-ORIGINAL-URL:https://spinhawaii.org
X-WR-CALDESC:Events for Special Parent Information Network: Hawaii
REFRESH-INTERVAL;VALUE=DURATION:PT1H
X-Robots-Tag:noindex
X-PUBLISHED-TTL:PT1H
BEGIN:VTIMEZONE
TZID:Pacific/Honolulu
BEGIN:STANDARD
TZOFFSETFROM:-1000
TZOFFSETTO:-1000
TZNAME:HST
DTSTART:20250101T000000
END:STANDARD
END:VTIMEZONE
BEGIN:VEVENT
DTSTART;TZID=Pacific/Honolulu:20250312T170000
DTEND;TZID=Pacific/Honolulu:20250312T180000
DTSTAMP:20260424T062916
CREATED:20250228T191752Z
LAST-MODIFIED:20250228T191752Z
UID:8257-1741798800-1741802400@spinhawaii.org
SUMMARY:LDAH Virtual Learning Lab: IDEA
DESCRIPTION:To register\, click here \nLeadership in Disabilities & Achievement of Hawaii (LDAH) is offering virtual learning labs for parents.\nBuilding Leaders in Parents creates a community of voices.  Be part of the solution for your child receiving specially designed instruction under IDEA. \nAll learning labs are from 5:00 – 6:00 pm on Zoom. \nMarch 12: IDEA – Individuals with Disabilities Education Act – The Foundation \nApril 9: Evaluations – Understanding the Evaluation Process – The Frame \nApril 23: PLAAPF – Present Levels of Academic Achievement and Functional Performance – The Engine \nHere is the registration link \nhttps://forms.gle/HAFozzzRG1kctXok6 \nor call 808-536-9684
URL:https://spinhawaii.org/events/ldah-virtual-learning-lab-idea/
LOCATION:Zoom
END:VEVENT
END:VCALENDAR