BEGIN:VCALENDAR
VERSION:2.0
PRODID:-//Special Parent Information Network: Hawaii - ECPv6.13.2.1//NONSGML v1.0//EN
CALSCALE:GREGORIAN
METHOD:PUBLISH
X-ORIGINAL-URL:https://spinhawaii.org
X-WR-CALDESC:Events for Special Parent Information Network: Hawaii
REFRESH-INTERVAL;VALUE=DURATION:PT1H
X-Robots-Tag:noindex
X-PUBLISHED-TTL:PT1H
BEGIN:VTIMEZONE
TZID:Pacific/Honolulu
BEGIN:STANDARD
TZOFFSETFROM:-1000
TZOFFSETTO:-1000
TZNAME:HST
DTSTART:20240101T000000
END:STANDARD
END:VTIMEZONE
BEGIN:VEVENT
DTSTART;TZID=Pacific/Honolulu:20240410T090000
DTEND;TZID=Pacific/Honolulu:20240410T150000
DTSTAMP:20260425T032554
CREATED:20240227T004900Z
LAST-MODIFIED:20240227T004900Z
UID:7681-1712739600-1712761200@spinhawaii.org
SUMMARY:Pro Se Training for Parents
DESCRIPTION:To register\, click here \nFor a Zoom link\, click here \nFor the Reimbursement form\, click here \nTraining for Unrepresented Parents (Pro Se) under IDEA \nThe Hawaiʻi State Department of Education (Department)\, Monitoring and Compliance Branch is hosting a\none-day training for Unrepresented Parents (Pro Se) under the Individuals with Disabilities Education Act\n(IDEA). A virtual option via Zoom is available\, click here. \nThe training will be facilitated by Special Education Solutions\, LLC\, the nation’s leading expert in IDEA\ncompliance\, training\, and dispute resolution. The training will provide an overview of special education law\,\nthe hearing process\, and pro se parents. The training is only open to parents\, non-attorney advocates\, and\nparent training information centers. \n• Date: Wednesday\, April 10\, 2024\n• Time: 9:00 a.m. – 3:00 p.m.\n• Location: Ala Moana Hotel by Mantra\, 410 Atkinson Dr.\, Honolulu\, HI 96814\, Hibiscus Ballroom II\,\n2nd Floor\n• Breakfast: Continental breakfast will be provided\n• Lunch: On your own \nRegistration for Training\nRegister here\nRegistration will close on Thursday\, March 28\, 2024 at 3:00 p.m. \nInter-Island Participants (Airfare and Ground Transportation Reimbursement)\nThe Monitoring and Compliance Branch will reimburse you up to $300 for the following:\n• Airfare\n• Ground Transportation\nYou must attend the whole training day from 9:00 a.m. – 3:00 p.m. to be eligible for reimbursement. \nReimbursement Request\nTo request reimbursement from the Monitoring and Compliance Branch\, please complete the Supplier\nInformation section on the Reimbursement Form with a copy of your Driver’s License\, boarding passes\, and\ntransportation receipt(s) and submit it to Angela Wong at angela.wong@k12.hi.us and Mel Dela Rama\nat mel.dela_rama@k12.hi.us. The School/Office Information and Administrator’s Authorization sections have\nbeen completed by the Monitoring and Compliance Branch. Please do not change these sections.\nThe deadline to submit your reimbursement request is Tuesday\, April 30\, 2024. \nShould you have any questions\, please contact Angela Wong and Mel Dela Rama at (808) 307-3600.
URL:https://spinhawaii.org/events/pro-se-training-for-parents/
LOCATION:Ala Moana Hotel\, 410 Atkinson Dr.\, Honolulu\, HI\, 96814\, United States
END:VEVENT
END:VCALENDAR