BEGIN:VCALENDAR
VERSION:2.0
PRODID:-//Special Parent Information Network: Hawaii - ECPv6.13.2.1//NONSGML v1.0//EN
CALSCALE:GREGORIAN
METHOD:PUBLISH
X-ORIGINAL-URL:https://spinhawaii.org
X-WR-CALDESC:Events for Special Parent Information Network: Hawaii
REFRESH-INTERVAL;VALUE=DURATION:PT1H
X-Robots-Tag:noindex
X-PUBLISHED-TTL:PT1H
BEGIN:VTIMEZONE
TZID:Pacific/Honolulu
BEGIN:STANDARD
TZOFFSETFROM:-1000
TZOFFSETTO:-1000
TZNAME:HST
DTSTART:20240101T000000
END:STANDARD
END:VTIMEZONE
BEGIN:VEVENT
DTSTART;TZID=Pacific/Honolulu:20241106T090000
DTEND;TZID=Pacific/Honolulu:20241106T120000
DTSTAMP:20260425T002524
CREATED:20241022T212923Z
LAST-MODIFIED:20241022T212923Z
UID:8085-1730883600-1730894400@spinhawaii.org
SUMMARY:Equitable Access Symposium
DESCRIPTION:To register for in-person\, click here \nTo register for Facebook Live\, click here \nThis event is FREE but you must register! \n 
URL:https://spinhawaii.org/events/equitable-access-symposium/
LOCATION:Nelha Hale Iako\, 73-970 Makako Bay Dr.\, Kailua-Kona\, HI\, United States
ORGANIZER;CN="Autism Moms of Kona":MAILTO:jessica.c.thatcher@gmail.com
END:VEVENT
END:VCALENDAR