BEGIN:VCALENDAR
VERSION:2.0
PRODID:-//Special Parent Information Network: Hawaii - ECPv6.13.2.1//NONSGML v1.0//EN
CALSCALE:GREGORIAN
METHOD:PUBLISH
X-ORIGINAL-URL:https://spinhawaii.org
X-WR-CALDESC:Events for Special Parent Information Network: Hawaii
REFRESH-INTERVAL;VALUE=DURATION:PT1H
X-Robots-Tag:noindex
X-PUBLISHED-TTL:PT1H
BEGIN:VTIMEZONE
TZID:Pacific/Honolulu
BEGIN:STANDARD
TZOFFSETFROM:-1000
TZOFFSETTO:-1000
TZNAME:HST
DTSTART:20250101T000000
END:STANDARD
END:VTIMEZONE
BEGIN:VEVENT
DTSTART;TZID=Pacific/Honolulu:20251011T100000
DTEND;TZID=Pacific/Honolulu:20251011T140000
DTSTAMP:20260423T113041
CREATED:20250903T201648Z
LAST-MODIFIED:20250903T201648Z
UID:8498-1760176800-1760191200@spinhawaii.org
SUMMARY:Hilo Sensory Festival
DESCRIPTION: 
URL:https://spinhawaii.org/events/hilo-sensory-festival/
ORGANIZER;CN="Autism Moms of Kona":MAILTO:jessica.c.thatcher@gmail.com
END:VEVENT
END:VCALENDAR