BEGIN:VCALENDAR
VERSION:2.0
PRODID:-//Special Parent Information Network: Hawaii - ECPv6.13.2.1//NONSGML v1.0//EN
CALSCALE:GREGORIAN
METHOD:PUBLISH
X-WR-CALNAME:Special Parent Information Network: Hawaii
X-ORIGINAL-URL:https://spinhawaii.org
X-WR-CALDESC:Events for Special Parent Information Network: Hawaii
REFRESH-INTERVAL;VALUE=DURATION:PT1H
X-Robots-Tag:noindex
X-PUBLISHED-TTL:PT1H
BEGIN:VTIMEZONE
TZID:Pacific/Honolulu
BEGIN:STANDARD
TZOFFSETFROM:-1000
TZOFFSETTO:-1000
TZNAME:HST
DTSTART:20230101T000000
END:STANDARD
END:VTIMEZONE
BEGIN:VEVENT
DTSTART;TZID=Pacific/Honolulu:20230604T130000
DTEND;TZID=Pacific/Honolulu:20230604T150000
DTSTAMP:20260425T134858
CREATED:20230531T171212Z
LAST-MODIFIED:20230531T171227Z
UID:6979-1685883600-1685890800@spinhawaii.org
SUMMARY:Sensory Friendly Movie: Spiderman
DESCRIPTION:To register\, click here
URL:https://spinhawaii.org/events/6979/
LOCATION:Consolidated Theater Mililani\, 95-1249 Meheula Parkway\, Mililani\, HI\, 96789\, United States
ORGANIZER;CN="Never Quit Dreaming":MAILTO:neverquitdreaming@gmail.com
END:VEVENT
BEGIN:VEVENT
DTSTART;TZID=Pacific/Honolulu:20230618T093000
DTEND;TZID=Pacific/Honolulu:20230618T113000
DTSTAMP:20260425T134858
CREATED:20230601T174002Z
LAST-MODIFIED:20230601T174002Z
UID:6991-1687080600-1687087800@spinhawaii.org
SUMMARY:Sensory Film: Elemental
DESCRIPTION:To register\, click here \nCost: General Admission: $16.75  / Individuals on the spectrum: Free \nHosted by the Autism Society of Hawaii
URL:https://spinhawaii.org/events/sensory-film-elemental/
LOCATION:Kahala Mall\, 4211 Waialae Ave.\, Honolulu\, HI\, 96816\, United States
ORGANIZER;CN="Autism Society of Hawaii":MAILTO:autismhi@gmail.com
END:VEVENT
END:VCALENDAR