BEGIN:VCALENDAR
VERSION:2.0
PRODID:-//Special Parent Information Network: Hawaii - ECPv6.13.2.1//NONSGML v1.0//EN
CALSCALE:GREGORIAN
METHOD:PUBLISH
X-WR-CALNAME:Special Parent Information Network: Hawaii
X-ORIGINAL-URL:https://spinhawaii.org
X-WR-CALDESC:Events for Special Parent Information Network: Hawaii
REFRESH-INTERVAL;VALUE=DURATION:PT1H
X-Robots-Tag:noindex
X-PUBLISHED-TTL:PT1H
BEGIN:VTIMEZONE
TZID:Pacific/Honolulu
BEGIN:STANDARD
TZOFFSETFROM:-1000
TZOFFSETTO:-1000
TZNAME:HST
DTSTART:20250101T000000
END:STANDARD
END:VTIMEZONE
BEGIN:VEVENT
DTSTART;TZID=Pacific/Honolulu:20250111T090000
DTEND;TZID=Pacific/Honolulu:20250111T120000
DTSTAMP:20260424T062322
CREATED:20241018T173539Z
LAST-MODIFIED:20241202T213352Z
UID:8072-1736586000-1736596800@spinhawaii.org
SUMMARY:North Hawaii Footsteps to Transition Fair
DESCRIPTION:To register\, click here \nFor more information on Footsteps to Transition\, visit the website: https://footstepstotransition.weebly.com/ \n 
URL:https://spinhawaii.org/events/north-hawaii-footsteps-to-transition-fair/
LOCATION:Kahilu Town Hall Waimea\, 67-1182 Lindsey Rd\, Waimea\, HI\, 96743\, United States
END:VEVENT
END:VCALENDAR