BEGIN:VCALENDAR
VERSION:2.0
PRODID:-//Special Parent Information Network: Hawaii - ECPv6.13.2.1//NONSGML v1.0//EN
CALSCALE:GREGORIAN
METHOD:PUBLISH
X-WR-CALNAME:Special Parent Information Network: Hawaii
X-ORIGINAL-URL:https://spinhawaii.org
X-WR-CALDESC:Events for Special Parent Information Network: Hawaii
REFRESH-INTERVAL;VALUE=DURATION:PT1H
X-Robots-Tag:noindex
X-PUBLISHED-TTL:PT1H
BEGIN:VTIMEZONE
TZID:Pacific/Honolulu
BEGIN:STANDARD
TZOFFSETFROM:-1000
TZOFFSETTO:-1000
TZNAME:HST
DTSTART:20250101T000000
END:STANDARD
END:VTIMEZONE
BEGIN:VEVENT
DTSTART;TZID=Pacific/Honolulu:20250606T090000
DTEND;TZID=Pacific/Honolulu:20250606T120000
DTSTAMP:20260425T151838
CREATED:20250521T215606Z
LAST-MODIFIED:20250521T215606Z
UID:8345-1749200400-1749211200@spinhawaii.org
SUMMARY:Community Aina Day with Kakou Club
DESCRIPTION:To register\, click here \n\n\n\nKupa ‘Aina provides cultural ʻāina-based experiential education and work opportunities. Studies show that youth who participate in place-based and ʻāina (land)-centered programs develop stronger community connections\, improved problem-solving skills\, and a deeper understanding of how to care for the earth. \nThe participants will learn to connect with the ʻāina\, so they can heal\, learn\, and reflect in a welcoming space. Visit their site to learn more. \n\n\nLearn about the land and native plants and how to care for a garden. \n\n\n\n\nVisit with the farm’s resident animals \n\n\nHone your gardening skills (will vary based on ability) \n\n\nThings to note – \n\n\nWear closed toed shoes \n\n\nBring a hat\, sunglasses\, water & a snack \n\n\nExpect to get your hands & clothes dirty! \n\n\nAccessibility – \n\n\nThe land we will be on is flat and has walking paths\, not paved \n\n\nWe will be on our feet for most of the 3 hours \n\n\nParent/caretaker please accompany attendee if extra assistance is needed \n\n\nKupa ‘Aina 42-470 Kalanianaʻole Highway Kailua\, HI\, 96734 United States
URL:https://spinhawaii.org/events/community-aina-day-with-kakou-club/
LOCATION:Kupa ‘Aina\, 42-470 Kalanianaʻole Highway\, Kailua\, HI\, 96734\, United States
ORGANIZER;CN="Kakou Club":MAILTO:ssheppard@kakouclub.org
END:VEVENT
BEGIN:VEVENT
DTSTART;TZID=Pacific/Honolulu:20250613T100000
DTEND;TZID=Pacific/Honolulu:20250613T113000
DTSTAMP:20260425T151838
CREATED:20250523T191535Z
LAST-MODIFIED:20250523T191535Z
UID:8370-1749808800-1749814200@spinhawaii.org
SUMMARY:Family Hui Support Group
DESCRIPTION:For more info\, click here \nEmbracing Abilities Hui \nA safe\, supportive space you can correct with other parents\, share experiences\, and access valuable resources. Whether you’re navigating services\, advocating for y our child\, or simply looking for community\, you are not alone. Come be part of a hui that understands and uplifts. \nEvery Friday in June @ Waikele Community Park\, 94-870 Lumiaina St\, Waipahu\, HI 96797
URL:https://spinhawaii.org/events/family-hui-support-group-2/
LOCATION:Waikele Community Park\, 94-870 Lumiaina St\, Waipahu\, HI 96797\, Waikele\, HI\, 96797\, United States
END:VEVENT
BEGIN:VEVENT
DTSTART;TZID=Pacific/Honolulu:20250620T100000
DTEND;TZID=Pacific/Honolulu:20250620T113000
DTSTAMP:20260425T151838
CREATED:20250523T191700Z
LAST-MODIFIED:20250523T191700Z
UID:8372-1750413600-1750419000@spinhawaii.org
SUMMARY:Family Hui Support Group
DESCRIPTION:For more info\, click here \nEmbracing Abilities Hui \nA safe\, supportive space you can correct with other parents\, share experiences\, and access valuable resources. Whether you’re navigating services\, advocating for y our child\, or simply looking for community\, you are not alone. Come be part of a hui that understands and uplifts. \nEvery Friday in June @ Waikele Community Park\, 94-870 Lumiaina St\, Waipahu\, HI 96797
URL:https://spinhawaii.org/events/family-hui-support-group-3/
LOCATION:Waikele Community Park\, 94-870 Lumiaina St\, Waipahu\, HI 96797\, Waikele\, HI\, 96797\, United States
END:VEVENT
BEGIN:VEVENT
DTSTART;TZID=Pacific/Honolulu:20250627T100000
DTEND;TZID=Pacific/Honolulu:20250627T113000
DTSTAMP:20260425T151838
CREATED:20250523T191941Z
LAST-MODIFIED:20250523T191941Z
UID:8374-1751018400-1751023800@spinhawaii.org
SUMMARY:Family Hui Support Group
DESCRIPTION:For more info\, click here \nEmbracing Abilities Hui \nA safe\, supportive space you can correct with other parents\, share experiences\, and access valuable resources. Whether you’re navigating services\, advocating for y our child\, or simply looking for community\, you are not alone. Come be part of a hui that understands and uplifts. \nEvery Friday in June @ Waikele Community Park\, 94-870 Lumiaina St\, Waipahu\, HI 96797
URL:https://spinhawaii.org/events/family-hui-support-group-4/
LOCATION:Waikele Community Park\, 94-870 Lumiaina St\, Waipahu\, HI 96797\, Waikele\, HI\, 96797\, United States
END:VEVENT
END:VCALENDAR