BEGIN:VCALENDAR
VERSION:2.0
PRODID:-//Special Parent Information Network: Hawaii - ECPv6.13.2.1//NONSGML v1.0//EN
CALSCALE:GREGORIAN
METHOD:PUBLISH
X-WR-CALNAME:Special Parent Information Network: Hawaii
X-ORIGINAL-URL:https://spinhawaii.org
X-WR-CALDESC:Events for Special Parent Information Network: Hawaii
REFRESH-INTERVAL;VALUE=DURATION:PT1H
X-Robots-Tag:noindex
X-PUBLISHED-TTL:PT1H
BEGIN:VTIMEZONE
TZID:Pacific/Honolulu
BEGIN:STANDARD
TZOFFSETFROM:-1000
TZOFFSETTO:-1000
TZNAME:HST
DTSTART:20250101T000000
END:STANDARD
END:VTIMEZONE
BEGIN:VEVENT
DTSTART;TZID=Pacific/Honolulu:20250908T180000
DTEND;TZID=Pacific/Honolulu:20250908T190000
DTSTAMP:20260424T023300
CREATED:20250828T222547Z
LAST-MODIFIED:20250828T222547Z
UID:8474-1757354400-1757358000@spinhawaii.org
SUMMARY:Child & Family Services Parent Support & Learning Sessions
DESCRIPTION:For more information\, call Child & Family Services at 808-681-1438 \nThe Ohana Support Services Program at Child & Family Services will continue its last two Parent Support Groups session using the Nurturing Parenting Curriculum. Groups are open to all parents and caregivers statewide and hosted via zoom.  Feel free to share this resource and reach out to us if you have any questions. Mahalo! \nEmpathetic Guidance: Supporting Keiki in Self Regulation with Verbal & Physical Redirection\nMonday September 8\, 2025 from 6:00 – 7:00 pm with Janel \nMonday September 15\, 2025 from 1:00 – 2:00 pm with Charlotte \nUnderstanding Stress: Problem Solving\, Decision Making\, Negotiation & Compromise\nMonday September 22\, 2025 from 6:00 – 7:00 pm with Janel \nMonday September 29\, 2025 from 1:00- 2:00 pm with Charlotte \nTo Zoom with Janel\, click here \nTo Zoom with Charlotte\, click here
URL:https://spinhawaii.org/events/child-family-services-parent-support-learning-sessions/
LOCATION:Zoom
ORGANIZER;CN="Child & Family Service":MAILTO:rlsoon@cfs-hawaii.org
END:VEVENT
END:VCALENDAR