BEGIN:VCALENDAR
VERSION:2.0
PRODID:-//Special Parent Information Network: Hawaii - ECPv6.13.2.1//NONSGML v1.0//EN
CALSCALE:GREGORIAN
METHOD:PUBLISH
X-ORIGINAL-URL:https://spinhawaii.org
X-WR-CALDESC:Events for Special Parent Information Network: Hawaii
REFRESH-INTERVAL;VALUE=DURATION:PT1H
X-Robots-Tag:noindex
X-PUBLISHED-TTL:PT1H
BEGIN:VTIMEZONE
TZID:Pacific/Honolulu
BEGIN:STANDARD
TZOFFSETFROM:-1000
TZOFFSETTO:-1000
TZNAME:HST
DTSTART:20240101T000000
END:STANDARD
END:VTIMEZONE
BEGIN:VEVENT
DTSTART;TZID=Pacific/Honolulu:20240606T080000
DTEND;TZID=Pacific/Honolulu:20240606T133000
DTSTAMP:20260425T104618
CREATED:20240426T194924Z
LAST-MODIFIED:20240426T194924Z
UID:7711-1717660800-1717680600@spinhawaii.org
SUMMARY:Read to Me Conference
DESCRIPTION:Register here \nIt’s that time of year again – Read To Me International Foundation’s Annual June Conference! Please mark your calendars\, save the date\, and share the free virtual Conference. The event is geared towards pre-k and elementary school educators\, parents/caregivers\, and non-profit organizations! Please feel free to share the flyer if you’d like to! \nSwag Bag: Each attendee* that participates throughout the whole Conference and completes the survey will receive a swag bag\, which includes a book chosen by each keynote\, a journal\, and resources. *Attendees must reside in the state of Hawaiʻi. \nRegister Today: Spaces and supplies are limited\, so please make sure you reserve your spot today by registering here: https://us02web.zoom.us/meeting/register/tZMtcemsqjorGtPsXazG644vr88VeLS2nnA2.  \nFeatured Keynote Speakers: This year\, we are featuring International Author Mem Fox and National Author Barney Saltzberg as our keynotes.  \nOther Speakers: Lieutenant Governor Sylvia Luke will kick off with a pre-recorded welcome. In addition\, we have Lauren Padesky\, HIDOE Office of Curriculum & Instructional Design\, and Stacie Kaneshige from the Hawaiʻi State Library as confirmed Concurrent Session Speakers.  \nDerek Kurisu from KTA Superstores will be reading a story during the Lunchtime Read Aloud segment.  \nWe will share more details on additional Concurrent Session Speakers by June 1st\, so stay tuned! \nZoom Links and Zoom Reminders: Please note that registration email reminders will come from no-reply@zoom.us and not from Read To Me International Foundation\, so please add no-reply@zoom.us to your contact list.
URL:https://spinhawaii.org/events/read-to-me-conference/
LOCATION:On Your Computer
END:VEVENT
END:VCALENDAR