BEGIN:VCALENDAR
VERSION:2.0
PRODID:-//Special Parent Information Network: Hawaii - ECPv6.13.2.1//NONSGML v1.0//EN
CALSCALE:GREGORIAN
METHOD:PUBLISH
X-ORIGINAL-URL:https://spinhawaii.org
X-WR-CALDESC:Events for Special Parent Information Network: Hawaii
REFRESH-INTERVAL;VALUE=DURATION:PT1H
X-Robots-Tag:noindex
X-PUBLISHED-TTL:PT1H
BEGIN:VTIMEZONE
TZID:Pacific/Honolulu
BEGIN:STANDARD
TZOFFSETFROM:-1000
TZOFFSETTO:-1000
TZNAME:HST
DTSTART:20240101T000000
END:STANDARD
END:VTIMEZONE
BEGIN:VEVENT
DTSTART;TZID=Pacific/Honolulu:20240217T080000
DTEND;TZID=Pacific/Honolulu:20240217T160000
DTSTAMP:20260425T140357
CREATED:20231213T182410Z
LAST-MODIFIED:20231213T182410Z
UID:7596-1708156800-1708185600@spinhawaii.org
SUMMARY:Micronesian Youth Summit
DESCRIPTION:The 6th Micronesian Youth Summit 2024 is around the corner!! It is the time to register if you wish to attend the summit. Parents and legal guardians\, if you wish to sign up your child(ren)/youth\, please call the WAO Youth Empowerment Center at (808)913-1364\, ext. 6 or you can register them online through http://bit.ly/6thMYS2024. \nWe Are Oceania Micronesian Youth Summit \nDate: February 17\, 2024 \nTime: 8:00 am – 4:00 pm \nWhere: Hawaii Convention Center \nNavigating Success!  The Micronesian Youth Summit rests on four pillars essential to navigating success: \nCOLLEGE\, CAREER\, COMMUNITY\, AND SOLIDARITY \nWe aspire to empower our youth through workshops\, discussions and other fun cultural activities so that they can explore their dreams\, strengths and potential. \nFor more info:\nemail: contact@weareoceania.org\ncall: 808-913-1364 ext. 6
URL:https://spinhawaii.org/events/micronesian-youth-summit/
LOCATION:Hawaii Convention Center\, 1801 Kalakaua Ave.\, Honolulu\, HI\, 96822\, United States
END:VEVENT
BEGIN:VEVENT
DTSTART;TZID=Pacific/Honolulu:20240229T080000
DTEND;TZID=Pacific/Honolulu:20240229T160000
DTSTAMP:20260425T140357
CREATED:20240209T012345Z
LAST-MODIFIED:20240209T012345Z
UID:7678-1709193600-1709222400@spinhawaii.org
SUMMARY:Employment First Summit
DESCRIPTION:To register\, click here \n \n \nRegistration is available on the Hawaii APSE website (https://HawaiiAPSE.org). \nSelf advocates can use the coupon code “DDC” at checkout for registration sponsored by DD Council. \n  \nHawaii Summit on Employment First \nThursday February 29\, 2024 – 8:00 am – 4:00 pm \nPau Hana & Networking – 4:30 – 6:00 pm \n  \nEntrepreneurs Sandbox \n643 Ilalo Street \nHonolulu\, HI 96813 \n  \nRegistration is $35 and includes lunch and a t-shirt. \nSelf-Advocates\, use the coupon code “DDC” at checkout for sponsorship. \n  \nTo register\, click here: https://hawaiiapse.org/hawaii-summit-on-employment-first-2024/ \nor click on the QR code on the flyer.
URL:https://spinhawaii.org/events/employment-first-summit/
LOCATION:Entrepreneurs Sandbox\, 643 Ilalo Street\, Honolulu\, Hawaii\, 96813
END:VEVENT
END:VCALENDAR