BEGIN:VCALENDAR
VERSION:2.0
PRODID:-//Special Parent Information Network: Hawaii - ECPv6.13.2.1//NONSGML v1.0//EN
CALSCALE:GREGORIAN
METHOD:PUBLISH
X-ORIGINAL-URL:https://spinhawaii.org
X-WR-CALDESC:Events for Special Parent Information Network: Hawaii
REFRESH-INTERVAL;VALUE=DURATION:PT1H
X-Robots-Tag:noindex
X-PUBLISHED-TTL:PT1H
BEGIN:VTIMEZONE
TZID:Pacific/Honolulu
BEGIN:STANDARD
TZOFFSETFROM:-1000
TZOFFSETTO:-1000
TZNAME:HST
DTSTART:20240101T000000
END:STANDARD
END:VTIMEZONE
BEGIN:VEVENT
DTSTART;TZID=Pacific/Honolulu:20240205T180000
DTEND;TZID=Pacific/Honolulu:20240205T193000
DTSTAMP:20260425T081550
CREATED:20240102T211924Z
LAST-MODIFIED:20240102T212143Z
UID:7608-1707156000-1707161400@spinhawaii.org
SUMMARY:Hoomana Parent Support Meeting
DESCRIPTION:Aloha Families\, Friends and Newcomers! \n\nIn case you are new to Ho’omana\, we are a parent led\, parent run support group for families. We are designed to support parents with a child on the Autism Spectrum in the Windward District.\n\nLearn more about us on our Ho’omana Website HERE.\n\n\nWherever you reside in the state come join us and you’ll enjoy information and resources relevant to parents that have a child with intellectual and developmental disabilities.\n\n\n\nOUR SUPPORT GROUP MEETINGS \n\n\n\n(RSVP now and receive an email reminder with zoom link)\n\n\n\n\nFEBRUARY 2024\nJoin us on Monday\, 02/05/24 from 6-7:30p for our monthly Talk Story support group meeting. To register for this support group RSVP HERE\n\nMARCH 2024\nJoin us on Monday\, 03/04/24 from 6-7:30p for our monthly Talk Story support group meeting. To register for this support group RSVP HERE \n\nWe look forward to seeing all of you and also to meeting new families who may be coming for the first time!\n\n\nDebbie & Kahea\nHo’omana Parent Support Group Facilitators\nFollow us on Instagram @HoomanaGroup
URL:https://spinhawaii.org/events/hoomana-parent-support-meeting-7/
LOCATION:Virtual Event\, United States
ORGANIZER;CN="Hoomana Parents Supporting Parents":MAILTO:hoomanagroup@gmail.com
END:VEVENT
BEGIN:VEVENT
DTSTART;TZID=Pacific/Honolulu:20240226T090000
DTEND;TZID=Pacific/Honolulu:20240226T160000
DTSTAMP:20260425T081550
CREATED:20240201T183332Z
LAST-MODIFIED:20240201T183332Z
UID:7672-1708938000-1708963200@spinhawaii.org
SUMMARY:Post-Secondary Transition Workshops
DESCRIPTION:Join our symposium about transition into postsecondary education and success in postsecondary education for students who are neurodiverse. This symposium\, ʻIke Loa: Symposium on Postsecondary Transition of Neurodivergent Students Having Potential in STEM\, is hosted by the University of Hawai’i at Mānoa\, Center on Disability Studies faculty and researchers of CLD TEAMS\, BEAM\, and NSF INCLUDES TAPDINTO-STEM team projects. The symposium is held on Monday\, February 26\, 2024\, 9:00am to 4:00pm (HST) at the Campus Center Ballroom (third floor) at the University of Hawai’i at Mānoa. The symposium is free with complimentary lunch. Join us for one or more of the sessions that interest you.\nFor details\, please see the attached flier. Register by February 9\, 2024. No costs to attend.\nFor more information visit the symposium website. \n \nLight breakfast and lunch will be provided.Who Should Attend? Families with high school and college students\, students who are neurodiverse (autism\, learning disabilities\, ADHD\, etc.)\, employers\, researchers\, practitioners\, and other community members interested in the topic.We hope you join us!\nʻIke Loa Symposium staff\n\n*The event is limited to 100 individuals\, and priority will be given to secondary teachers and administrators. Participation fees are made available through a co-sponsorship by the U.S. Department of Education\, Gifted and Talented Education Program fundedprojects\, BEAM and CLD TEAMS\, and by the NSF Eddie Bernice Johnson INCLUDES initiative TAPDINTO-STEM.\nFor Hawaiʻi Island attendees\, a limited number of transportation support is available. Please indicate your needs in the registration form.\n**ʻIke Loa: Symposium on Postsecondary Transition of Neurodivergent Students Having Potential in STEM is a pre-event of the 39th Annual Pacific Rim International Conference on Disability and Diversity hosted by the Center on Disability Studies\, College of Education\, University of Hawaiʻi at Mānoa\, February 27 – 28\, 2024 at the Hawai‘i Convention Center\, Honolulu\, HI. 
URL:https://spinhawaii.org/events/post-secondary-transition-workshops/
LOCATION:UH Campus Center Ballroom
END:VEVENT
END:VCALENDAR