BEGIN:VCALENDAR
VERSION:2.0
PRODID:-//Special Parent Information Network: Hawaii - ECPv6.13.2.1//NONSGML v1.0//EN
CALSCALE:GREGORIAN
METHOD:PUBLISH
X-WR-CALNAME:Special Parent Information Network: Hawaii
X-ORIGINAL-URL:https://spinhawaii.org
X-WR-CALDESC:Events for Special Parent Information Network: Hawaii
REFRESH-INTERVAL;VALUE=DURATION:PT1H
X-Robots-Tag:noindex
X-PUBLISHED-TTL:PT1H
BEGIN:VTIMEZONE
TZID:Pacific/Honolulu
BEGIN:STANDARD
TZOFFSETFROM:-1000
TZOFFSETTO:-1000
TZNAME:HST
DTSTART:20230101T000000
END:STANDARD
END:VTIMEZONE
BEGIN:VEVENT
DTSTART;TZID=Pacific/Honolulu:20231129T173000
DTEND;TZID=Pacific/Honolulu:20231129T183000
DTSTAMP:20260425T180343
CREATED:20231122T175521Z
LAST-MODIFIED:20231122T175521Z
UID:7566-1701279000-1701282600@spinhawaii.org
SUMMARY:Support the Child Tax Credit Meeting
DESCRIPTION:Are you a parent or an organization serving families with children age 17 and under who would like to learn more about efforts to pass a state tax credit (Keiki Credit) for any family of a child aged 17 or under who meets income eligibility criteria?  You are invited to join the discussion at a Child Tax Credit Convening Wednesday\, November 29 from 5:30 – 6:30 p.m. at the Church of the Crossroads (1212 University Avenue in Honolulu). \nThe discussion is sponsored by the Hawai’i Appleseed Center for Law and Economic Justice.  For more information\, contact Christy MacPherson\, Lead Community Developer\, at (808) 554-3833 or email her at christy@hiappleseed.org.
URL:https://spinhawaii.org/events/support-the-child-tax-credit-meeting/
END:VEVENT
END:VCALENDAR