BEGIN:VCALENDAR
VERSION:2.0
PRODID:-//Special Parent Information Network: Hawaii - ECPv6.13.2.1//NONSGML v1.0//EN
CALSCALE:GREGORIAN
METHOD:PUBLISH
X-WR-CALNAME:Special Parent Information Network: Hawaii
X-ORIGINAL-URL:https://spinhawaii.org
X-WR-CALDESC:Events for Special Parent Information Network: Hawaii
REFRESH-INTERVAL;VALUE=DURATION:PT1H
X-Robots-Tag:noindex
X-PUBLISHED-TTL:PT1H
BEGIN:VTIMEZONE
TZID:Pacific/Honolulu
BEGIN:STANDARD
TZOFFSETFROM:-1000
TZOFFSETTO:-1000
TZNAME:HST
DTSTART:20250101T000000
END:STANDARD
END:VTIMEZONE
BEGIN:VEVENT
DTSTART;TZID=Pacific/Honolulu:20250208T090000
DTEND;TZID=Pacific/Honolulu:20250208T120000
DTSTAMP:20260424T022710
CREATED:20250124T230226Z
LAST-MODIFIED:20250130T193721Z
UID:8198-1739005200-1739016000@spinhawaii.org
SUMMARY:Oahu Footsteps to Transition on Zoom
DESCRIPTION:To register\, click here
URL:https://spinhawaii.org/events/oahu-footsteps-to-transition-on-zoom/
LOCATION:Zoom
END:VEVENT
END:VCALENDAR